BEGIN:VCALENDAR
VERSION:2.0
PRODID:-//wp-events-plugin.com//7.2.3.1//EN
TZID:Europe/Berlin
X-WR-TIMEZONE:Europe/Berlin
BEGIN:VEVENT
UID:306@quartier.fliegendes-kuenstlerzimmer.de
DTSTART;TZID=Europe/Berlin:20240731T140000
DTEND;TZID=Europe/Berlin:20240731T170000
DTSTAMP:20240531T133718Z
URL:https://quartier.fliegendes-kuenstlerzimmer.de/kalender/qt-treff-2024-
 07-31/
SUMMARY:QT-Treff
DESCRIPTION:Der Cutie-Treff richtet sich an Jugendliche\, die Lust haben\, 
 sich mit Themen wie Sexualität\, Identität und Geschlecht auseinanderzus
 etzen. Gemeinsam lesen\, schreiben und sprechen wir. 
ATTACH;FMTTYPE=image/jpeg:https://quartier.fliegendes-kuenstlerzimmer.de/w
 p-content/uploads/2024/05/IMG_1371.png
CATEGORIES:für Jugendliche,Veranstaltungen
END:VEVENT
BEGIN:VTIMEZONE
TZID:Europe/Berlin
X-LIC-LOCATION:Europe/Berlin
BEGIN:DAYLIGHT
DTSTART:20240331T030000
TZOFFSETFROM:+0100
TZOFFSETTO:+0200
TZNAME:CEST
END:DAYLIGHT
END:VTIMEZONE
END:VCALENDAR